BEGIN:VCALENDAR
VERSION:2.0
PRODID:-//Plone.org//NONSGML plone.app.event//EN
X-WR-TIMEZONE:Europe/Madrid
BEGIN:VEVENT
SUMMARY:Són coses de nens!
DTSTART;TZID=Europe/Madrid;VALUE=DATE-TIME:20171109T173000
DTEND;TZID=Europe/Madrid;VALUE=DATE-TIME:20171109T183000
DTSTAMP;VALUE=DATE-TIME:20260424T053644Z
UID:72948a0a569d985481ab4840515949e9
CREATED;VALUE=DATE-TIME:20171109T000000Z
LOCATION:La Masoveria de Vil·la Flora
ORGANIZER:AMPA del municipi i Ajuntament de Canet amb el suport de Diputació de Barcelona
DESCRIPTION:Teatre forum sobre assetjament escolar
URL:https://www.canetdemar.cat/document.php?id=16428
END:VEVENT
END:VCALENDAR