BEGIN:VCALENDAR
VERSION:2.0
PRODID:-//Plone.org//NONSGML plone.app.event//EN
X-WR-TIMEZONE:Europe/Madrid
BEGIN:VEVENT
SUMMARY:Conferència: Les dones i la seguretat
DTSTART;TZID=Europe/Madrid;VALUE=DATE-TIME:20171123T183000
DTEND;TZID=Europe/Madrid;VALUE=DATE-TIME:20171123T193000
DTSTAMP;VALUE=DATE-TIME:20260424T111349Z
UID:b4de0abea9d90282f004c1b765277baa
CREATED;VALUE=DATE-TIME:20171123T000000Z
LOCATION:Aula Magna CRTTT - Escola de Teixits
DESCRIPTION:Dins el cicle cultura per la igualtat
URL:https://www.canetdemar.cat/document.php?id=16397
END:VEVENT
END:VCALENDAR