BEGIN:VCALENDAR
VERSION:2.0
PRODID:-//Plone.org//NONSGML plone.app.event//EN
X-WR-TIMEZONE:Europe/Madrid
BEGIN:VEVENT
SUMMARY:Milla urbana de Canet de Mar
DTSTART;TZID=Europe/Madrid;VALUE=DATE-TIME:20171022T100000
DTEND;TZID=Europe/Madrid;VALUE=DATE-TIME:20171022T110000
DTSTAMP;VALUE=DATE-TIME:20260423T104528Z
UID:e541c4ff928526c1e72b0166a7bb83b2
CREATED;VALUE=DATE-TIME:20171022T000000Z
LOCATION:passeig Marítim
ORGANIZER:Sport Canet
URL:https://www.canetdemar.cat/document.php?id=16395
END:VEVENT
END:VCALENDAR