BEGIN:VCALENDAR
VERSION:2.0
PRODID:-//Plone.org//NONSGML plone.app.event//EN
X-WR-TIMEZONE:Europe/Madrid
BEGIN:VEVENT
SUMMARY:Visita del Síndic de greuges
DTSTART;TZID=Europe/Madrid;VALUE=DATE-TIME:20171010T000000
DTEND;TZID=Europe/Madrid;VALUE=DATE-TIME:20171010T010000
DTSTAMP;VALUE=DATE-TIME:20260423T152121Z
UID:d4dc7aa35f4593259cf8ab40b5442092
CREATED;VALUE=DATE-TIME:20171010T000000Z
LOCATION:Centre Cívic i Cultural Vil·la Flora - riera Gavarra s/n
URL:https://www.canetdemar.cat/document.php?id=16388
END:VEVENT
END:VCALENDAR