BEGIN:VCALENDAR
VERSION:2.0
PRODID:-//Plone.org//NONSGML plone.app.event//EN
X-WR-TIMEZONE:Europe/Madrid
BEGIN:VEVENT
SUMMARY:Confecció de Coixins del Cor
DTSTART;TZID=Europe/Madrid;VALUE=DATE-TIME:20171009T100000
DTEND;TZID=Europe/Madrid;VALUE=DATE-TIME:20171009T110000
DTSTAMP;VALUE=DATE-TIME:20260423T032849Z
UID:34e3ae61ea0f7a11a742f0d0d74f35b5
CREATED;VALUE=DATE-TIME:20171009T000000Z
LOCATION:seu Sàlvia - plaça Manén
ORGANIZER:Sàlvia, associació de dones
URL:https://www.canetdemar.cat/document.php?id=16385
END:VEVENT
END:VCALENDAR