BEGIN:VCALENDAR
VERSION:2.0
PRODID:-//Plone.org//NONSGML plone.app.event//EN
X-WR-TIMEZONE:Europe/Madrid
BEGIN:VEVENT
SUMMARY:Diumenge de ball
DTSTART;TZID=Europe/Madrid;VALUE=DATE-TIME:20171015T190000
DTEND;TZID=Europe/Madrid;VALUE=DATE-TIME:20171015T200000
DTSTAMP;VALUE=DATE-TIME:20260424T212347Z
UID:bb480232e5a08c0a541aba5d9a774cff
CREATED;VALUE=DATE-TIME:20171015T000000Z
LOCATION:Envelat de Vil·la Flora
ORGANIZER:Amics del ball
URL:https://www.canetdemar.cat/document.php?id=16374
END:VEVENT
END:VCALENDAR