BEGIN:VCALENDAR
VERSION:2.0
PRODID:-//Plone.org//NONSGML plone.app.event//EN
X-WR-TIMEZONE:Europe/Madrid
BEGIN:VEVENT
SUMMARY:Cinema a la fresca: "Sahara"
DTSTART;TZID=Europe/Madrid;VALUE=DATE-TIME:20050701T220000
DTEND;TZID=Europe/Madrid;VALUE=DATE-TIME:20050701T230000
DTSTAMP;VALUE=DATE-TIME:20260424T201417Z
UID:da26e3f4fc7225ddd9c78e533db2d399
CREATED;VALUE=DATE-TIME:20050701T000000Z
URL:https://www.canetdemar.cat/document.php?id=1635
END:VEVENT
END:VCALENDAR