BEGIN:VCALENDAR
VERSION:2.0
PRODID:-//Plone.org//NONSGML plone.app.event//EN
X-WR-TIMEZONE:Europe/Madrid
BEGIN:VEVENT
SUMMARY:Exposició: 25 anys de la Penya Barcelonista
DTSTART;TZID=Europe/Madrid;VALUE=DATE-TIME:20170922T200000
DTEND;TZID=Europe/Madrid;VALUE=DATE-TIME:20170922T210000
DTSTAMP;VALUE=DATE-TIME:20260423T231759Z
UID:60ed5d28ca1b4f549022b4b717e4287c
CREATED;VALUE=DATE-TIME:20170922T000000Z
ORGANIZER:Penya Barcelonista Canet de Mar
COMMENT:Durada: del 22 al 30 de setembre de 2017
URL:https://www.canetdemar.cat/document.php?id=16348
END:VEVENT
END:VCALENDAR