BEGIN:VCALENDAR
VERSION:2.0
PRODID:-//Plone.org//NONSGML plone.app.event//EN
X-WR-TIMEZONE:Europe/Madrid
BEGIN:VEVENT
SUMMARY:Fira del nadó
DTSTART;TZID=Europe/Madrid;VALUE=DATE-TIME:20171022T000000
DTEND;TZID=Europe/Madrid;VALUE=DATE-TIME:20171022T010000
DTSTAMP;VALUE=DATE-TIME:20260423T051429Z
UID:6887e05ad222b8ad312e506c2ba97f45
CREATED;VALUE=DATE-TIME:20171022T000000Z
LOCATION:plaça Universitat i CRTTT - Escola de Teixits
ORGANIZER:Lactamar Pro lactància, col·labora: Ajuntament de Canet de Mar
URL:https://www.canetdemar.cat/document.php?id=16343
END:VEVENT
END:VCALENDAR