BEGIN:VCALENDAR
VERSION:2.0
PRODID:-//Plone.org//NONSGML plone.app.event//EN
X-WR-TIMEZONE:Europe/Madrid
BEGIN:VEVENT
SUMMARY:Conferència: Teatre i televisió: homes sense dones
DTSTART;TZID=Europe/Madrid;VALUE=DATE-TIME:20171026T183000
DTEND;TZID=Europe/Madrid;VALUE=DATE-TIME:20171026T193000
DTSTAMP;VALUE=DATE-TIME:20260423T102450Z
UID:79c513c5a32d9f1db2caf0b7e0a9f94a
CREATED;VALUE=DATE-TIME:20171026T000000Z
LOCATION:Aula Magna CRTTT - Escola de Teixits
ORGANIZER:Àrees de Participació Ciutadana i Igualtat, Cultura, ACPO, Associació de Dones Sàlvia i Mares Malabaristes
DESCRIPTION:Cicle Cultura per la Igualtat
URL:https://www.canetdemar.cat/document.php?id=16332
END:VEVENT
END:VCALENDAR