BEGIN:VCALENDAR
VERSION:2.0
PRODID:-//Plone.org//NONSGML plone.app.event//EN
X-WR-TIMEZONE:Europe/Madrid
BEGIN:VEVENT
SUMMARY:10a Fira Mercat Modernista
DTSTART;TZID=Europe/Madrid;VALUE=DATE-TIME:20170915T190000
DTEND;TZID=Europe/Madrid;VALUE=DATE-TIME:20170915T200000
DTSTAMP;VALUE=DATE-TIME:20260425T124958Z
UID:3f897ce0555c012fb21d5125295a6371
CREATED;VALUE=DATE-TIME:20170915T000000Z
ORGANIZER:Àrea de Promoció Econòmica
DESCRIPTION:Actes inaugurals
URL:https://www.canetdemar.cat/document.php?id=16307
END:VEVENT
END:VCALENDAR