BEGIN:VCALENDAR
VERSION:2.0
PRODID:-//Plone.org//NONSGML plone.app.event//EN
X-WR-TIMEZONE:Europe/Madrid
BEGIN:VEVENT
SUMMARY:V concurs de pintura golfa
DTSTART;TZID=Europe/Madrid;VALUE=DATE-TIME:20050702T220000
DTEND;TZID=Europe/Madrid;VALUE=DATE-TIME:20050702T230000
DTSTAMP;VALUE=DATE-TIME:20260422T054128Z
UID:af0bfe4b8552cc68c6a285f798f2623d
CREATED;VALUE=DATE-TIME:20050702T000000Z
URL:https://www.canetdemar.cat/document.php?id=1626
END:VEVENT
END:VCALENDAR