BEGIN:VCALENDAR
VERSION:2.0
PRODID:-//Plone.org//NONSGML plone.app.event//EN
X-WR-TIMEZONE:Europe/Madrid
BEGIN:VEVENT
SUMMARY:Festa Major 2005
DTSTART;TZID=Europe/Madrid;VALUE=DATE-TIME:20050629T000000
DTEND;TZID=Europe/Madrid;VALUE=DATE-TIME:20050629T010000
DTSTAMP;VALUE=DATE-TIME:20260423T013932Z
UID:15200277fdcaf9f72bb8b284ee528ffa
CREATED;VALUE=DATE-TIME:20050629T000000Z
URL:https://www.canetdemar.cat/document.php?id=1622
END:VEVENT
END:VCALENDAR