BEGIN:VCALENDAR
VERSION:2.0
PRODID:-//Plone.org//NONSGML plone.app.event//EN
X-WR-TIMEZONE:Europe/Madrid
BEGIN:VEVENT
SUMMARY:Exposició de Dibuix dels alumnes de l'Escola de Música
DTSTART;TZID=Europe/Madrid;VALUE=DATE-TIME:20170713T180000
DTEND;TZID=Europe/Madrid;VALUE=DATE-TIME:20170713T190000
DTSTAMP;VALUE=DATE-TIME:20260425T205338Z
UID:a0c325cdc0cc7aae529995312d1f1f90
CREATED;VALUE=DATE-TIME:20170713T000000Z
CATEGORIES:Exposició
LOCATION:Sala Cultural Ramon de Capmany
ORGANIZER:Escola de Música
COMMENT:Durada: del 13 al 16 de juliol de 18.00 a 20.00 hores
URL:https://www.canetdemar.cat/document.php?id=16195
END:VEVENT
END:VCALENDAR