BEGIN:VCALENDAR
VERSION:2.0
PRODID:-//Plone.org//NONSGML plone.app.event//EN
X-WR-TIMEZONE:Europe/Madrid
BEGIN:VEVENT
SUMMARY:Swing - Lindy Hop
DTSTART;TZID=Europe/Madrid;VALUE=DATE-TIME:20170714T203000
DTEND;TZID=Europe/Madrid;VALUE=DATE-TIME:20170714T213000
DTSTAMP;VALUE=DATE-TIME:20260423T032534Z
UID:ca66102931799524176f2be9c6a9503b
CREATED;VALUE=DATE-TIME:20170714T000000Z
CATEGORIES:Dansa,Cursos
LOCATION:Sisè Sentit Estudi de Pilates i Dansa
ORGANIZER:Gemma Galera
COMMENT:Preu: Gratuït
Durada: 1 hora
DESCRIPTION:Activitats d'Estiu proposades per l'Estudi de Dansa i Pilates de Canet de Mar
URL:https://www.canetdemar.cat/document.php?id=16161
END:VEVENT
END:VCALENDAR