BEGIN:VCALENDAR
VERSION:2.0
PRODID:-//Plone.org//NONSGML plone.app.event//EN
X-WR-TIMEZONE:Europe/Madrid
BEGIN:VEVENT
SUMMARY:Exposició d'aquarel·les de Salvador Castellà
DTSTART;TZID=Europe/Madrid;VALUE=DATE-TIME:20170721T190000
DTEND;TZID=Europe/Madrid;VALUE=DATE-TIME:20170721T200000
DTSTAMP;VALUE=DATE-TIME:20260423T050752Z
UID:464bafa8cc9a1cde856781de4d7d9ad8
CREATED;VALUE=DATE-TIME:20170721T000000Z
CATEGORIES:Exposició
LOCATION:Sala Cultural Ramon de Capmany
COMMENT:Durada: del 21 de juliol al 6 d'agost de 2017
DESCRIPTION:Obert cada dia de  18.30 a 20.30h
URL:https://www.canetdemar.cat/document.php?id=16129
END:VEVENT
END:VCALENDAR