BEGIN:VCALENDAR
VERSION:2.0
PRODID:-//Plone.org//NONSGML plone.app.event//EN
X-WR-TIMEZONE:Europe/Madrid
BEGIN:VEVENT
SUMMARY:Taller Exprimeix Youtube i el vídeo màrqueting al teu negoci
DTSTART;TZID=Europe/Madrid;VALUE=DATE-TIME:20170612T093000
DTEND;TZID=Europe/Madrid;VALUE=DATE-TIME:20170612T103000
DTSTAMP;VALUE=DATE-TIME:20260421T114714Z
UID:489e46bed1bf85ce54362a964940a9af
CREATED;VALUE=DATE-TIME:20170612T000000Z
LOCATION:Escola de Teixits - CRTTT
ORGANIZER:Àrea de Promoció Econòmica
COMMENT:Durada: 12, 19 i 26 de juny de 9.30 a 13.30 hores
DESCRIPTION:gratuït per a empreses i emprenedors/eres
URL:https://www.canetdemar.cat/document.php?id=16099
END:VEVENT
END:VCALENDAR