BEGIN:VCALENDAR
VERSION:2.0
PRODID:-//Plone.org//NONSGML plone.app.event//EN
X-WR-TIMEZONE:Europe/Madrid
BEGIN:VEVENT
SUMMARY:Hora del conte amb la Fina Gelpí
DTSTART;TZID=Europe/Madrid;VALUE=DATE-TIME:20171125T120000
DTEND;TZID=Europe/Madrid;VALUE=DATE-TIME:20171125T130000
DTSTAMP;VALUE=DATE-TIME:20260424T215025Z
UID:246bb23e55bc802820e25d5599d3a4a7
CREATED;VALUE=DATE-TIME:20171125T000000Z
CATEGORIES:Infantils
LOCATION:Biblioteca P. Gual i Pujadas
ORGANIZER:Biblioteca P. Gual i Pujadas
COMMENT:Preu: Gratuït
DESCRIPTION:contes pes més menuts
URL:https://www.canetdemar.cat/document.php?id=16088
END:VEVENT
END:VCALENDAR