BEGIN:VCALENDAR
VERSION:2.0
PRODID:-//Plone.org//NONSGML plone.app.event//EN
X-WR-TIMEZONE:Europe/Madrid
BEGIN:VEVENT
SUMMARY:Yoguicuentos + taller
DTSTART;TZID=Europe/Madrid;VALUE=DATE-TIME:20171007T110000
DTEND;TZID=Europe/Madrid;VALUE=DATE-TIME:20171007T120000
DTSTAMP;VALUE=DATE-TIME:20260422T054157Z
UID:c6489135501870e683eb9ba98786542f
CREATED;VALUE=DATE-TIME:20171007T000000Z
CATEGORIES:Infantils
LOCATION:Biblioteca P. Gual i Pujadas
ORGANIZER:Biblioteca P. Gual i Pujadas
COMMENT:Preu: Gratuït
URL:https://www.canetdemar.cat/document.php?id=16064
END:VEVENT
END:VCALENDAR