BEGIN:VCALENDAR
VERSION:2.0
PRODID:-//Plone.org//NONSGML plone.app.event//EN
X-WR-TIMEZONE:Europe/Madrid
BEGIN:VEVENT
SUMMARY:Ball de Festa Major
DTSTART;TZID=Europe/Madrid;VALUE=DATE-TIME:20170630T230000
DTEND;TZID=Europe/Madrid;VALUE=DATE-TIME:20170701T000000
DTSTAMP;VALUE=DATE-TIME:20260421T124124Z
UID:940f8656efb61156ee2d17b02692a7ca
CREATED;VALUE=DATE-TIME:20170630T000000Z
LOCATION:pista de la plaça Universitat
ORGANIZER:Àrea de Festes
DESCRIPTION:Actes Festa Major - 2017
URL:https://www.canetdemar.cat/document.php?id=16047
END:VEVENT
END:VCALENDAR