BEGIN:VCALENDAR
VERSION:2.0
PRODID:-//Plone.org//NONSGML plone.app.event//EN
X-WR-TIMEZONE:Europe/Madrid
BEGIN:VEVENT
SUMMARY:Ofici de Sant Pere
DTSTART;TZID=Europe/Madrid;VALUE=DATE-TIME:20170629T110000
DTEND;TZID=Europe/Madrid;VALUE=DATE-TIME:20170629T120000
DTSTAMP;VALUE=DATE-TIME:20260424T202924Z
UID:a45bc5a0c7c9f68a3de6b157542ec93c
CREATED;VALUE=DATE-TIME:20170629T000000Z
LOCATION:Església Parroquial
DESCRIPTION:Actes de Festa Major - 2017
URL:https://www.canetdemar.cat/document.php?id=16040
END:VEVENT
END:VCALENDAR