BEGIN:VCALENDAR
VERSION:2.0
PRODID:-//Plone.org//NONSGML plone.app.event//EN
X-WR-TIMEZONE:Europe/Madrid
BEGIN:VEVENT
SUMMARY:Splash Slide el Tobogan Infinit!
DTSTART;TZID=Europe/Madrid;VALUE=DATE-TIME:20170712T180000
DTEND;TZID=Europe/Madrid;VALUE=DATE-TIME:20170712T190000
DTSTAMP;VALUE=DATE-TIME:20260424T194755Z
UID:3262811477fc3d14b8cb336b578b9614
CREATED;VALUE=DATE-TIME:20170712T000000Z
LOCATION:avinguda Doctor Fleming
ORGANIZER:àrea de Festes
DESCRIPTION:Actes Festa Major - 2017
URL:https://www.canetdemar.cat/document.php?id=16037
END:VEVENT
END:VCALENDAR