BEGIN:VCALENDAR
VERSION:2.0
PRODID:-//Plone.org//NONSGML plone.app.event//EN
X-WR-TIMEZONE:Europe/Madrid
BEGIN:VEVENT
SUMMARY:Actuació castellera
DTSTART;TZID=Europe/Madrid;VALUE=DATE-TIME:20170525T200000
DTEND;TZID=Europe/Madrid;VALUE=DATE-TIME:20170525T210000
DTSTAMP;VALUE=DATE-TIME:20260423T103946Z
UID:61635d004747586707f3d0128d802179
CREATED;VALUE=DATE-TIME:20170525T000000Z
LOCATION:carrer Ample
ORGANIZER:Àrea de Festes
DESCRIPTION:Actes Festa Major - 2017
URL:https://www.canetdemar.cat/document.php?id=16034
END:VEVENT
END:VCALENDAR