BEGIN:VCALENDAR
VERSION:2.0
PRODID:-//Plone.org//NONSGML plone.app.event//EN
X-WR-TIMEZONE:Europe/Madrid
BEGIN:VEVENT
SUMMARY:Mercat d'intercanvi i 2a mà
DTSTART;TZID=Europe/Madrid;VALUE=DATE-TIME:20171029T100000
DTEND;TZID=Europe/Madrid;VALUE=DATE-TIME:20171029T110000
DTSTAMP;VALUE=DATE-TIME:20260423T203502Z
UID:1ff53dfd7f88fc41dbfdd04caa58277b
CREATED;VALUE=DATE-TIME:20171029T000000Z
LOCATION:Plaça Universitat
ORGANIZER:Àrea de Medi Ambient
COMMENT:Durada: de 10.00 a 14.00 hores
URL:https://www.canetdemar.cat/document.php?id=16022
END:VEVENT
END:VCALENDAR