BEGIN:VCALENDAR
VERSION:2.0
PRODID:-//Plone.org//NONSGML plone.app.event//EN
X-WR-TIMEZONE:Europe/Madrid
BEGIN:VEVENT
SUMMARY:Excursió + Taller: la importància de l'olfacte
DTSTART;TZID=Europe/Madrid;VALUE=DATE-TIME:20170625T080000
DTEND;TZID=Europe/Madrid;VALUE=DATE-TIME:20170625T090000
DTSTAMP;VALUE=DATE-TIME:20260425T174202Z
UID:0400cc830a14f9680f25c7e958befc2a
CREATED;VALUE=DATE-TIME:20170625T000000Z
ORGANIZER:educando en positivo, educación canina
COMMENT:Preu: 10 euros/ per persona i gos
Durada: Matí
URL:https://www.canetdemar.cat/document.php?id=16012
END:VEVENT
END:VCALENDAR