BEGIN:VCALENDAR
VERSION:2.0
PRODID:-//Plone.org//NONSGML plone.app.event//EN
X-WR-TIMEZONE:Europe/Madrid
BEGIN:VEVENT
SUMMARY:23a Pedalada - corriols de canet
DTSTART;TZID=Europe/Madrid;VALUE=DATE-TIME:20170604T000000
DTEND;TZID=Europe/Madrid;VALUE=DATE-TIME:20170604T010000
DTSTAMP;VALUE=DATE-TIME:20260424T211714Z
UID:5267fe52a01864b5a6e53109e5bd92f5
CREATED;VALUE=DATE-TIME:20170604T000000Z
ORGANIZER:Club Ciclista Canet
URL:https://www.canetdemar.cat/document.php?id=15998
END:VEVENT
END:VCALENDAR