BEGIN:VCALENDAR
VERSION:2.0
PRODID:-//Plone.org//NONSGML plone.app.event//EN
X-WR-TIMEZONE:Europe/Madrid
BEGIN:VEVENT
SUMMARY:Exposició dels alumnes del curs de Fede Tenas
DTSTART;TZID=Europe/Madrid;VALUE=DATE-TIME:20050621T000000
DTEND;TZID=Europe/Madrid;VALUE=DATE-TIME:20050621T010000
DTSTAMP;VALUE=DATE-TIME:20260426T063532Z
UID:7f4b133e011ea7bce58098debfc94c60
CREATED;VALUE=DATE-TIME:20050621T000000Z
URL:https://www.canetdemar.cat/document.php?id=1599
END:VEVENT
END:VCALENDAR