BEGIN:VCALENDAR
VERSION:2.0
PRODID:-//Plone.org//NONSGML plone.app.event//EN
X-WR-TIMEZONE:Europe/Madrid
BEGIN:VEVENT
SUMMARY:Contes a la fresca: Contes posats de cap per avall amb la Clara Gavaldà
DTSTART;TZID=Europe/Madrid;VALUE=DATE-TIME:20170727T190000
DTEND;TZID=Europe/Madrid;VALUE=DATE-TIME:20170727T200000
DTSTAMP;VALUE=DATE-TIME:20260425T010357Z
UID:f80bc1f799332bdb6795eb15ac4e7d96
CREATED;VALUE=DATE-TIME:20170727T000000Z
CATEGORIES:Infantils
LOCATION:Plaça de la Biblioteca
ORGANIZER:Biblioteca P. Gual i Pujadas
COMMENT:Preu: GratuÏt
URL:https://www.canetdemar.cat/document.php?id=15983
END:VEVENT
END:VCALENDAR