BEGIN:VCALENDAR
VERSION:2.0
PRODID:-//Plone.org//NONSGML plone.app.event//EN
X-WR-TIMEZONE:Europe/Madrid
BEGIN:VEVENT
SUMMARY:Exposició: S'ha escrit un crim
DTSTART;TZID=Europe/Madrid;VALUE=DATE-TIME:20170721T000000
DTEND;TZID=Europe/Madrid;VALUE=DATE-TIME:20170721T010000
DTSTAMP;VALUE=DATE-TIME:20260424T053839Z
UID:259061d23b5668a75d9faac89cd72c33
CREATED;VALUE=DATE-TIME:20170721T000000Z
CATEGORIES:Exposició
LOCATION:Biblioteca P. Gual i Pujadas
ORGANIZER:Biblioteca P. Gual i Pujadas
COMMENT:Preu: Gratuït
Durada: del 21 de juliol al 6 d'agost de 2017
URL:https://www.canetdemar.cat/document.php?id=15981
END:VEVENT
END:VCALENDAR