BEGIN:VCALENDAR
VERSION:2.0
PRODID:-//Plone.org//NONSGML plone.app.event//EN
X-WR-TIMEZONE:Europe/Madrid
BEGIN:VEVENT
SUMMARY:Exposició de bonsais
DTSTART;TZID=Europe/Madrid;VALUE=DATE-TIME:20050625T000000
DTEND;TZID=Europe/Madrid;VALUE=DATE-TIME:20050625T010000
DTSTAMP;VALUE=DATE-TIME:20260424T131555Z
UID:c8c910b55583d214229d30b362ebfcd0
CREATED;VALUE=DATE-TIME:20050625T000000Z
URL:https://www.canetdemar.cat/document.php?id=1598
END:VEVENT
END:VCALENDAR