BEGIN:VCALENDAR
VERSION:2.0
PRODID:-//Plone.org//NONSGML plone.app.event//EN
X-WR-TIMEZONE:Europe/Madrid
BEGIN:VEVENT
SUMMARY:Presentació de la novel·la: El navegant del nord-català Joan-Lluís Lluís
DTSTART;TZID=Europe/Madrid;VALUE=DATE-TIME:20171020T193000
DTEND;TZID=Europe/Madrid;VALUE=DATE-TIME:20171020T203000
DTSTAMP;VALUE=DATE-TIME:20260423T051344Z
UID:2cab4d2383f62f965124faec20be2e20
CREATED;VALUE=DATE-TIME:20171020T000000Z
CATEGORIES:Literatura
LOCATION:Sala Cultural Ramon de Capmany
ORGANIZER:Plataforma per la Llengua Canet de Mar
COMMENT:Preu: Gratuït
DESCRIPTION:Activitat del Correllengua 2017
URL:https://www.canetdemar.cat/document.php?id=15966
END:VEVENT
END:VCALENDAR