BEGIN:VCALENDAR
VERSION:2.0
PRODID:-//Plone.org//NONSGML plone.app.event//EN
X-WR-TIMEZONE:Europe/Madrid
BEGIN:VEVENT
SUMMARY:Presentació del llibre: La invenció dels càtars de Sergi Grau Torras
DTSTART;TZID=Europe/Madrid;VALUE=DATE-TIME:20171013T193000
DTEND;TZID=Europe/Madrid;VALUE=DATE-TIME:20171013T203000
DTSTAMP;VALUE=DATE-TIME:20260423T220857Z
UID:c5d34d5a30880f0849587112a92af7bc
CREATED;VALUE=DATE-TIME:20171013T000000Z
CATEGORIES:Literatura
LOCATION:Sala Cultural Ramon de Capmany
ORGANIZER:Plataforma per la Llengua Canet de Mar
COMMENT:Preu: Gratuït
DESCRIPTION:Activitat del Correllengua 2017
URL:https://www.canetdemar.cat/document.php?id=15965
END:VEVENT
END:VCALENDAR