BEGIN:VCALENDAR
VERSION:2.0
PRODID:-//Plone.org//NONSGML plone.app.event//EN
X-WR-TIMEZONE:Europe/Madrid
BEGIN:VEVENT
SUMMARY:Celebració dels 25 anys de l'Esplai de la Gent Gran
DTSTART;TZID=Europe/Madrid;VALUE=DATE-TIME:20050620T000000
DTEND;TZID=Europe/Madrid;VALUE=DATE-TIME:20050620T010000
DTSTAMP;VALUE=DATE-TIME:20260423T132844Z
UID:ee22127e9d5273f4fecfdd7a2b39c997
CREATED;VALUE=DATE-TIME:20050620T000000Z
URL:https://www.canetdemar.cat/document.php?id=1595
END:VEVENT
END:VCALENDAR