BEGIN:VCALENDAR
VERSION:2.0
PRODID:-//Plone.org//NONSGML plone.app.event//EN
X-WR-TIMEZONE:Europe/Madrid
BEGIN:VEVENT
SUMMARY:DesTAPA - Primavera 2017
DTSTART;TZID=Europe/Madrid;VALUE=DATE-TIME:20170514T000000
DTEND;TZID=Europe/Madrid;VALUE=DATE-TIME:20170514T010000
DTSTAMP;VALUE=DATE-TIME:20260421T084729Z
UID:f7c68044e404be8b9da2daa38260110f
CREATED;VALUE=DATE-TIME:20170505T000000Z
ORGANIZER:Àrea de Promoció Econòmica
COMMENT:Durada: del 5 al 14 d maig
URL:https://www.canetdemar.cat/document.php?id=15932
END:VEVENT
END:VCALENDAR