BEGIN:VCALENDAR
VERSION:2.0
PRODID:-//Plone.org//NONSGML plone.app.event//EN
X-WR-TIMEZONE:Europe/Madrid
BEGIN:VEVENT
SUMMARY:IV Concurs de Scrabble en Català de Sant Joan de Canet de Mar
DTSTART;TZID=Europe/Madrid;VALUE=DATE-TIME:20170617T160000
DTEND;TZID=Europe/Madrid;VALUE=DATE-TIME:20170617T170000
DTSTAMP;VALUE=DATE-TIME:20260422T073306Z
UID:f04fe6523ef6c28dfa7487fef67fac6a
CREATED;VALUE=DATE-TIME:20170617T000000Z
LOCATION:La Masoveria (Centre Cívic i Cultural Vil·la Flora a la riera Gavarra, s/n)
ORGANIZER:Club de Scrabble en Català Canet de Mar i Plataforma per la Llengua Canet de Mar
COMMENT:Preu: Gratuït
DESCRIPTION:Juga a Scrabble i gaudeix amb la llengua
URL:https://www.canetdemar.cat/document.php?id=15902
END:VEVENT
END:VCALENDAR