BEGIN:VCALENDAR
VERSION:2.0
PRODID:-//Plone.org//NONSGML plone.app.event//EN
X-WR-TIMEZONE:Europe/Madrid
BEGIN:VEVENT
SUMMARY:Fent i desfent aprèn l'aprenent: oficis d'abans al Maresme
DTSTART;TZID=Europe/Madrid;VALUE=DATE-TIME:20170504T193000
DTEND;TZID=Europe/Madrid;VALUE=DATE-TIME:20170504T203000
DTSTAMP;VALUE=DATE-TIME:20260425T155239Z
UID:517080b4401aa489e4e281f39a392430
CREATED;VALUE=DATE-TIME:20170504T000000Z
LOCATION:Biblioteca P. Gual i Pujadas
ORGANIZER:Biblioteca P. Gual i Pujadas
COMMENT:Preu: Gratuït
DESCRIPTION:Presentació de la Guia de Recursos de les Biblioteques del Maresme 2017
URL:https://www.canetdemar.cat/document.php?id=15893
END:VEVENT
END:VCALENDAR