BEGIN:VCALENDAR
VERSION:2.0
PRODID:-//Plone.org//NONSGML plone.app.event//EN
X-WR-TIMEZONE:Europe/Madrid
BEGIN:VEVENT
SUMMARY:1r Concurs de Colles Sardanistes
DTSTART;TZID=Europe/Madrid;VALUE=DATE-TIME:20170910T190000
DTEND;TZID=Europe/Madrid;VALUE=DATE-TIME:20170910T200000
DTSTAMP;VALUE=DATE-TIME:20260422T220745Z
UID:c9b3961183d44c5ce4f48b09348866bc
CREATED;VALUE=DATE-TIME:20170910T000000Z
ORGANIZER:Amics de la Sardana de Canet de Mar amb la col·laboració de l'Àrea de Cultura.
URL:https://www.canetdemar.cat/document.php?id=15873
END:VEVENT
END:VCALENDAR