BEGIN:VCALENDAR
VERSION:2.0
PRODID:-//Plone.org//NONSGML plone.app.event//EN
X-WR-TIMEZONE:Europe/Madrid
BEGIN:VEVENT
SUMMARY:Audició de Sardanes
DTSTART;TZID=Europe/Madrid;VALUE=DATE-TIME:20170819T221500
DTEND;TZID=Europe/Madrid;VALUE=DATE-TIME:20170819T231500
DTSTAMP;VALUE=DATE-TIME:20260423T120635Z
UID:709c0443314e57f410e448c5fc8b3583
CREATED;VALUE=DATE-TIME:20170819T000000Z
ORGANIZER:Amics de la Sardana de Canet de Mar i Colla Creixent
URL:https://www.canetdemar.cat/document.php?id=15872
END:VEVENT
END:VCALENDAR