BEGIN:VCALENDAR
VERSION:2.0
PRODID:-//Plone.org//NONSGML plone.app.event//EN
X-WR-TIMEZONE:Europe/Madrid
BEGIN:VEVENT
SUMMARY:Audició de Sardanes
DTSTART;TZID=Europe/Madrid;VALUE=DATE-TIME:20170805T221500
DTEND;TZID=Europe/Madrid;VALUE=DATE-TIME:20170805T231500
DTSTAMP;VALUE=DATE-TIME:20260424T041223Z
UID:737e3ce62a789fbdf549face96aaf387
CREATED;VALUE=DATE-TIME:20170805T000000Z
ORGANIZER:Amics de la Sardana de Canet de Mar i Colla Creixent
URL:https://www.canetdemar.cat/document.php?id=15870
END:VEVENT
END:VCALENDAR