BEGIN:VCALENDAR
VERSION:2.0
PRODID:-//Plone.org//NONSGML plone.app.event//EN
X-WR-TIMEZONE:Europe/Madrid
BEGIN:VEVENT
SUMMARY:Audició de Sardanes
DTSTART;TZID=Europe/Madrid;VALUE=DATE-TIME:20170722T221500
DTEND;TZID=Europe/Madrid;VALUE=DATE-TIME:20170722T231500
DTSTAMP;VALUE=DATE-TIME:20260423T133631Z
UID:87ed4c28b8c5f70802ae1e6166c9f630
CREATED;VALUE=DATE-TIME:20170722T000000Z
ORGANIZER:Amics de la Sardana de Canet de Mar i Colla Creixent
URL:https://www.canetdemar.cat/document.php?id=15868
END:VEVENT
END:VCALENDAR