BEGIN:VCALENDAR
VERSION:2.0
PRODID:-//Plone.org//NONSGML plone.app.event//EN
X-WR-TIMEZONE:Europe/Madrid
BEGIN:VEVENT
SUMMARY:Gran nit de la Sardana
DTSTART;TZID=Europe/Madrid;VALUE=DATE-TIME:20170715T000000
DTEND;TZID=Europe/Madrid;VALUE=DATE-TIME:20170715T010000
DTSTAMP;VALUE=DATE-TIME:20260424T115346Z
UID:969e369f020accd3e3f53f3c295f1bd4
CREATED;VALUE=DATE-TIME:20170715T000000Z
ORGANIZER:Amics de la Sardana de Canet de Mar i Colla Creixent
URL:https://www.canetdemar.cat/document.php?id=15867
END:VEVENT
END:VCALENDAR