BEGIN:VCALENDAR
VERSION:2.0
PRODID:-//Plone.org//NONSGML plone.app.event//EN
X-WR-TIMEZONE:Europe/Madrid
BEGIN:VEVENT
SUMMARY:Celebracions religioses - Dissabte Sant
DTSTART;TZID=Europe/Madrid;VALUE=DATE-TIME:20170415T090000
DTEND;TZID=Europe/Madrid;VALUE=DATE-TIME:20170415T100000
DTSTAMP;VALUE=DATE-TIME:20260422T054314Z
UID:38068499bd58f1078b65a3466363c9e0
CREATED;VALUE=DATE-TIME:20170415T000000Z
DESCRIPTION:Setmana Santa 2017
URL:https://www.canetdemar.cat/document.php?id=15853
END:VEVENT
END:VCALENDAR