BEGIN:VCALENDAR
VERSION:2.0
PRODID:-//Plone.org//NONSGML plone.app.event//EN
X-WR-TIMEZONE:Europe/Madrid
BEGIN:VEVENT
SUMMARY:Presentació del llibre: "La consciència lingüística europea"
DTSTART;TZID=Europe/Madrid;VALUE=DATE-TIME:20050615T190000
DTEND;TZID=Europe/Madrid;VALUE=DATE-TIME:20050615T200000
DTSTAMP;VALUE=DATE-TIME:20260422T202116Z
UID:81e41e6b59fbff67f973e1f9d08cdbd3
CREATED;VALUE=DATE-TIME:20050615T000000Z
URL:https://www.canetdemar.cat/document.php?id=1585
END:VEVENT
END:VCALENDAR