BEGIN:VCALENDAR
VERSION:2.0
PRODID:-//Plone.org//NONSGML plone.app.event//EN
X-WR-TIMEZONE:Europe/Madrid
BEGIN:VEVENT
SUMMARY:Xerrada: Las emociones y su  transformación
DTSTART;TZID=Europe/Madrid;VALUE=DATE-TIME:20170412T000000
DTEND;TZID=Europe/Madrid;VALUE=DATE-TIME:20170412T010000
DTSTAMP;VALUE=DATE-TIME:20260424T152319Z
UID:ed50c130626c9769d00031c55e5ba74c
CREATED;VALUE=DATE-TIME:20170412T000000Z
ORGANIZER:Mares Malabaristes
COMMENT:Preu: gratuït
URL:https://www.canetdemar.cat/document.php?id=15843
END:VEVENT
END:VCALENDAR