BEGIN:VCALENDAR
VERSION:2.0
PRODID:-//Plone.org//NONSGML plone.app.event//EN
X-WR-TIMEZONE:Europe/Madrid
BEGIN:VEVENT
SUMMARY:Visita de l'autobús d'atenció al consumidor
DTSTART;TZID=Europe/Madrid;VALUE=DATE-TIME:20050615T103000
DTEND;TZID=Europe/Madrid;VALUE=DATE-TIME:20050615T113000
DTSTAMP;VALUE=DATE-TIME:20260420T182821Z
UID:068f95a73e26be5a5c0ca18fadafe4f4
CREATED;VALUE=DATE-TIME:20050615T000000Z
URL:https://www.canetdemar.cat/document.php?id=1584
END:VEVENT
END:VCALENDAR