BEGIN:VCALENDAR
VERSION:2.0
PRODID:-//Plone.org//NONSGML plone.app.event//EN
X-WR-TIMEZONE:Europe/Madrid
BEGIN:VEVENT
SUMMARY:Diumenge de ball
DTSTART;TZID=Europe/Madrid;VALUE=DATE-TIME:20170416T190000
DTEND;TZID=Europe/Madrid;VALUE=DATE-TIME:20170416T200000
DTSTAMP;VALUE=DATE-TIME:20260424T130257Z
UID:2b3119af8229e1ad0188205ded138954
CREATED;VALUE=DATE-TIME:20170416T000000Z
LOCATION:Envelat de Vil·la Flora
ORGANIZER:Amics del ball
URL:https://www.canetdemar.cat/document.php?id=15786
END:VEVENT
END:VCALENDAR