BEGIN:VCALENDAR
VERSION:2.0
PRODID:-//Plone.org//NONSGML plone.app.event//EN
X-WR-TIMEZONE:Europe/Madrid
BEGIN:VEVENT
SUMMARY:Vermutsicals
DTSTART;TZID=Europe/Madrid;VALUE=DATE-TIME:20170423T123000
DTEND;TZID=Europe/Madrid;VALUE=DATE-TIME:20170423T133000
DTSTAMP;VALUE=DATE-TIME:20260424T053908Z
UID:dcc3700f34c9296100dafb9dd0f25f7a
CREATED;VALUE=DATE-TIME:20170423T000000Z
LOCATION:Plaça Colomer
ORGANIZER:Associació Cultural Plataforma Odèon - ACPO
URL:https://www.canetdemar.cat/document.php?id=15770
END:VEVENT
END:VCALENDAR