BEGIN:VCALENDAR
VERSION:2.0
PRODID:-//Plone.org//NONSGML plone.app.event//EN
X-WR-TIMEZONE:Europe/Madrid
BEGIN:VEVENT
SUMMARY:Exposició: "Dibuixant a l'aire"
DTSTART;TZID=Europe/Madrid;VALUE=DATE-TIME:20050607T000000
DTEND;TZID=Europe/Madrid;VALUE=DATE-TIME:20050607T010000
DTSTAMP;VALUE=DATE-TIME:20260426T000645Z
UID:615120383d6c54dae92e1b9be33ed39e
CREATED;VALUE=DATE-TIME:20050607T000000Z
URL:https://www.canetdemar.cat/document.php?id=1576
END:VEVENT
END:VCALENDAR