BEGIN:VCALENDAR
VERSION:2.0
PRODID:-//Plone.org//NONSGML plone.app.event//EN
X-WR-TIMEZONE:Europe/Madrid
BEGIN:VEVENT
SUMMARY:Final campionat de Catalunya a la banda - 3a divisió
DTSTART;TZID=Europe/Madrid;VALUE=DATE-TIME:20170311T093000
DTEND;TZID=Europe/Madrid;VALUE=DATE-TIME:20170311T103000
DTSTAMP;VALUE=DATE-TIME:20260424T143811Z
UID:8f4b668f61ab9241985bd49cfb495459
CREATED;VALUE=DATE-TIME:20170311T000000Z
LOCATION:Rial de Can Godany s/n - al costat del Camp Municipal de Futbol
ORGANIZER:Club billar Canet de Mar
URL:https://www.canetdemar.cat/document.php?id=15740
END:VEVENT
END:VCALENDAR