BEGIN:VCALENDAR
VERSION:2.0
PRODID:-//Plone.org//NONSGML plone.app.event//EN
X-WR-TIMEZONE:Europe/Madrid
BEGIN:VEVENT
SUMMARY:Ponència: El paper de les dones a la nova República Catalana
DTSTART;TZID=Europe/Madrid;VALUE=DATE-TIME:20170330T190000
DTEND;TZID=Europe/Madrid;VALUE=DATE-TIME:20170330T200000
DTSTAMP;VALUE=DATE-TIME:20260424T114829Z
UID:5385907603c3422de21a2330ebcaf32a
CREATED;VALUE=DATE-TIME:20170330T000000Z
LOCATION:Aula Magna CRTTT - Escola de Teixits
ORGANIZER:ANC - Canet per la independencia i Òmnium Maresme - Montnegre
URL:https://www.canetdemar.cat/document.php?id=15723
END:VEVENT
END:VCALENDAR